BEGIN:VCALENDAR
VERSION:2.0
PRODID:-//wp-events-plugin.com//7.2.3.1//EN
BEGIN:VEVENT
UID:31@uap.edu.ar
DTSTART:20260814T000000Z
DTEND:20260814T000000Z
DTSTAMP:20260330T121240Z
URL:https://uap.edu.ar/eventos/ultimo-dia-para-solicitar-graduacion/
SUMMARY:Último día para solicitar graduación
DESCRIPTION:Del 6 al 8 de noviembre se llevará a cabo la 2ª Graduación 2
 026.El formulario de inscripción se encuentra disponible en el Centro de 
 Atención o puede solicitarse a través de WhatsApp.
ATTACH;FMTTYPE=image/jpeg:https://uap.edu.ar/wp-content/uploads/2026/03/ul
 timo-dia-para-solicitar-graduacion-scaled-e1774872429822.jpg
END:VEVENT
END:VCALENDAR