BEGIN:VCALENDAR
VERSION:2.0
PRODID:-//wp-events-plugin.com//7.2.3.1//EN
BEGIN:VEVENT
UID:29@uap.edu.ar
DTSTART:20260720T000000Z
DTEND:20260802T000000Z
DTSTAMP:20260325T172030Z
URL:https://uap.edu.ar/eventos/matricula-web-ingresantes-y-reingresantes/
SUMMARY:Matrícula Web ingresantes y reingresantes
DESCRIPTION:
ATTACH;FMTTYPE=image/jpeg:https://uap.edu.ar/wp-content/uploads/2026/03/ma
 tricula-web-reingresantes-scaled-e1774459168485.jpg
END:VEVENT
END:VCALENDAR