BEGIN:VCALENDAR
VERSION:2.0
PRODID:-//wp-events-plugin.com//7.2.3.1//EN
BEGIN:VEVENT
UID:30@uap.edu.ar
DTSTART:20260629T000000Z
DTEND:20260629T000000Z
DTSTAMP:20260325T172900Z
URL:https://uap.edu.ar/eventos/inicio-receso-escolar/
SUMMARY:Inicio receso escolar
DESCRIPTION:
ATTACH;FMTTYPE=image/jpeg:https://uap.edu.ar/wp-content/uploads/2026/03/Re
 ceso-escolar-1-scaled-e1774459678735.jpg
END:VEVENT
END:VCALENDAR