BEGIN:VCALENDAR
VERSION:2.0
PRODID:-//wp-events-plugin.com//7.2.3.1//EN
BEGIN:VEVENT
UID:26@uap.edu.ar
DTSTART:20260626T000000Z
DTEND:20260626T000000Z
DTSTAMP:20260325T151523Z
URL:https://uap.edu.ar/eventos/inicio-inscripcion-online-a-examenes/
SUMMARY:Inicio inscripción online a exámenes
DESCRIPTION:
ATTACH;FMTTYPE=image/jpeg:https://uap.edu.ar/wp-content/uploads/2026/03/26
 -de-junio-scaled-e1774451589636.jpg
END:VEVENT
END:VCALENDAR