BEGIN:VCALENDAR
VERSION:2.0
PRODID:-//wp-events-plugin.com//7.2.3.1//EN
BEGIN:VEVENT
UID:32@uap.edu.ar
DTSTART:20261106T200000Z
DTEND:20261108T220000Z
DTSTAMP:20260330T130212Z
URL:https://uap.edu.ar/eventos/ii-graduacion/
SUMMARY:II Graduación
DESCRIPTION:Del 6 al 8 de noviembre tendrá lugar una nueva edición de la 
 Graduación 2026\, una de las instancias más importantes de nuestra unive
 rsidad. En este evento\, nuestros estudiantes culminan su formación acad
 émica y reciben su título\, marcando el cierre de una etapa muy signific
 ativa. Te invitamos a ser parte y acompañarnos en este momento tan especi
 al.
ATTACH;FMTTYPE=image/jpeg:https://uap.edu.ar/wp-content/uploads/2026/03/II
 -graduacion-scaled-e1774875699459.jpg
END:VEVENT
END:VCALENDAR