BEGIN:VCALENDAR
VERSION:2.0
PRODID:-//wp-events-plugin.com//7.2.3.1//EN
BEGIN:VEVENT
UID:27@uap.edu.ar
DTSTART:20260717T000000Z
DTEND:20260717T000000Z
DTSTAMP:20260325T153920Z
URL:https://uap.edu.ar/eventos/final-1o-llamado-examenes/
SUMMARY:Final 1º llamado exámenes
DESCRIPTION:
ATTACH;FMTTYPE=image/jpeg:https://uap.edu.ar/wp-content/uploads/2026/03/pr
 imer-llamado-examenes-julio-scaled-e1774453119956.jpg
END:VEVENT
END:VCALENDAR